BEGIN:VCALENDAR
VERSION:2.0
PRODID:-//Library Market//iCal Export//EN
BEGIN:VEVENT
SUMMARY:Teen Crafternoon
UID:2000
DTSTAMP:20260424T223600Z
DTSTART:20260706T200000Z
DTEND:20260706T210000Z
LOCATION:600 South Main Street, Greenwood, SC 29646, United States
ROOM: Conference Room 2
DESCRIPTION:Craft: Air Dry Clay Diffuser DisksShape and design your own ai
 r dry clay diffuser disks—perfect for adding a personal touch to your sp
 ace. We will provide a selection of essential oils so you can add your fav
 orite scent, along with stamps to press fun patterns and designs into your
  clay. Once dry, your disk can be used to gently freshen up a room, locker
 , or car. No experience needed and all supplies are provided.
URL:https://www.gwdlibrary.org/event/teen-crafternoon-2000
END:VEVENT
END:VCALENDAR
