BEGIN:VCALENDAR
VERSION:2.0
PRODID:-//Library Market//iCal Export//EN
BEGIN:VEVENT
SUMMARY:Teen Crafternoon
UID:1999
DTSTAMP:20260425T002700Z
DTSTART:20260622T200000Z
DTEND:20260622T210000Z
LOCATION:600 South Main Street, Greenwood, SC 29646, United States
ROOM: Conference Room 2
DESCRIPTION:Craft: Stone MosaicsCreate your own colorful stone mosaic in t
 his easy, hands-on craft program just for teens. Using a wooden square as 
 your base, you will design a unique pattern with brightly colored mosaic p
 ieces and secure them in place with hot glue. Each participant will leave
  with a one-of-a-kind piece of art perfect for decorating your space or gi
 ving as a gift. 
URL:https://www.gwdlibrary.org/event/teen-crafternoon-1999
END:VEVENT
END:VCALENDAR
