BEGIN:VCALENDAR
VERSION:2.0
PRODID:-//Library Market//iCal Export//EN
BEGIN:VEVENT
SUMMARY:Crochet Club
UID:1996
DTSTAMP:20260424T223600Z
DTSTART:20260710T193000Z
DTEND:20260710T210000Z
LOCATION:600 South Main Street, Greenwood, SC 29646, United States
ROOM: Children&#039;s Story Room
DESCRIPTION:Ages: 9-18Beginners welcome!This group is a fun and welcoming 
 space for tweens and teens who want to learn crochet! Whether you’re jus
 t starting or ready to take on intermediate patterns, we’re here to help
  you grow your skills and enjoy the craft. We have donated yarn available 
 for you to practice with and a variety of patterns to try. Come create, le
 arn, and connect with others who share your love of crochet!You can also b
 ring your own yarn and project to work on during group time. 
URL:https://www.gwdlibrary.org/event/crochet-club-1996
END:VEVENT
END:VCALENDAR
