BEGIN:VCALENDAR
VERSION:2.0
PRODID:-//Library Market//iCal Export//EN
BEGIN:VEVENT
SUMMARY:Playtime at the Library
UID:1993
DTSTAMP:20260424T223600Z
DTSTART:20260721T143000Z
DTEND:20260721T153000Z
LOCATION:600 South Main Street, Greenwood, SC 29646, United States
ROOM: Children&#039;s Story Room
DESCRIPTION:
URL:https://www.gwdlibrary.org/event/playtime-library-1993
END:VEVENT
END:VCALENDAR
