BEGIN:VCALENDAR
VERSION:2.0
PRODID:-//Library Market//iCal Export//EN
BEGIN:VEVENT
SUMMARY:Furry Tales
UID:1988
DTSTAMP:20260424T223600Z
DTSTART:20260707T193000Z
DTEND:20260707T203000Z
LOCATION:600 South Main Street, Greenwood, SC 29646, United States
ROOM: Children&#039;s Story Room
DESCRIPTION:
URL:https://www.gwdlibrary.org/event/furry-tales-1988
END:VEVENT
END:VCALENDAR
