BEGIN:VCALENDAR
VERSION:2.0
PRODID:-//Library Market//iCal Export//EN
BEGIN:VEVENT
SUMMARY:Friends of the Greenwood Library Book Sale
UID:1969
DTSTAMP:20260424T123300Z
DTSTART:20261109T140000Z
DTEND:20261109T180000Z
LOCATION:600 South Main Street, Greenwood, SC 29646, United States
ROOM: American Veterans Auditorium
DESCRIPTION:Fall Book Sale
URL:https://www.gwdlibrary.org/event/friends-greenwood-library-book-sale-1
 969
END:VEVENT
END:VCALENDAR
