BEGIN:VCALENDAR
VERSION:2.0
PRODID:-//Library Market//iCal Export//EN
BEGIN:VEVENT
SUMMARY:Friends of the Greenwood Library Book Sale
UID:1967
DTSTAMP:20260422T164200Z
DTSTART:20261107T150000Z
DTEND:20261107T204500Z
LOCATION:600 South Main Street, Greenwood, SC 29646, United States
ROOM: American Veterans Auditorium
DESCRIPTION:Fall Book Sale
URL:https://www.gwdlibrary.org/event/friends-greenwood-library-book-sale-1
 967
END:VEVENT
END:VCALENDAR
