BEGIN:VCALENDAR
VERSION:2.0
PRODID:-//Library Market//iCal Export//EN
BEGIN:VEVENT
SUMMARY:The Craft Crew
UID:1895
DTSTAMP:20260422T091000Z
DTSTART:20260629T200000Z
DTEND:20260629T210000Z
LOCATION:600 South Main Street, Greenwood, SC 29646, United States
ROOM: Conference Room 2
DESCRIPTION:Ages: 10-18.Get creative at this tween and teen crafting progr
 am where you’ll design your own paper plushies using simple, everyday ma
 terials like paper, stuffing, markers, and tape. These fun, lightweight cr
 eations are perfect for making during downtime at school or as a handmade 
 gift for friends or yourself.In celebration of this year’s summer readin
 g theme, a cute dinosaur template will be available to get you started, bu
 t you are also welcome to design your own unique plushie. No experience ne
 eded. Just bring your imagination!
URL:https://www.gwdlibrary.org/event/craft-crew-1895
END:VEVENT
END:VCALENDAR
